BEGIN:VCALENDAR
VERSION:2.0
PRODID:-//itcacton.org//NONSGML kigkonsult.se iCalcreator 2.30.10//
CALSCALE:GREGORIAN
METHOD:PUBLISH
UID:292bec82-125e-48a2-8874-0083fd34eaf3
X-WR-CALDESC:ITC closed for Patriots' Day
X-WR-RELCALID:7c38b9acbf95214eb21e05fde774b618
X-WR-TIMEZONE:America/New_York
BEGIN:VTIMEZONE
TZID:America/New_York
BEGIN:STANDARD
TZNAME:EST
DTSTART:20231105T020000
TZOFFSETFROM:-0400
TZOFFSETTO:-0500
RDATE:20241103T020000
END:STANDARD
BEGIN:DAYLIGHT
TZNAME:EDT
DTSTART:20240310T020000
TZOFFSETFROM:-0500
TZOFFSETTO:-0400
RDATE:20250309T020000
END:DAYLIGHT
END:VTIMEZONE
BEGIN:VEVENT
UID:506ce74d-3ab7-4936-863f-3a44a4379777
DTSTAMP:20260422T021604Z
DESCRIPTION:ITC closed for Patriots' Day
DTSTART;TZID=America/New_York:20240415T000000
DTEND;TZID=America/New_York:20240415T235900
LOCATION:
SUMMARY:ITC Closed
END:VEVENT
END:VCALENDAR
