BEGIN:VCALENDAR
VERSION:2.0
PRODID:-//itcacton.org//NONSGML kigkonsult.se iCalcreator 2.30.10//
CALSCALE:GREGORIAN
METHOD:PUBLISH
UID:d978d5cf-7e1c-42c0-96f0-6e0cb00c8448
X-WR-CALDESC:ITC Closed for Memorial Day
X-WR-RELCALID:e8eefb1d2b2bcca78404591ccfed1461
X-WR-TIMEZONE:America/New_York
BEGIN:VTIMEZONE
TZID:America/New_York
BEGIN:STANDARD
TZNAME:EST
DTSTART:20231105T020000
TZOFFSETFROM:-0400
TZOFFSETTO:-0500
RDATE:20241103T020000
RDATE:20251102T020000
END:STANDARD
BEGIN:DAYLIGHT
TZNAME:EDT
DTSTART:20240310T020000
TZOFFSETFROM:-0500
TZOFFSETTO:-0400
RDATE:20250309T020000
END:DAYLIGHT
END:VTIMEZONE
BEGIN:VEVENT
UID:f71b3244-af39-44de-88d6-24a0af6cb594
DTSTAMP:20260422T002436Z
DESCRIPTION:ITC Closed for Memorial Day
DTSTART;TZID=America/New_York:20240527T000000
DTEND;TZID=America/New_York:20240527T235900
LOCATION:
SUMMARY:ITC Closed
END:VEVENT
END:VCALENDAR
