BEGIN:VCALENDAR
VERSION:2.0
PRODID:-//itcacton.org//NONSGML kigkonsult.se iCalcreator 2.30.10//
CALSCALE:GREGORIAN
METHOD:PUBLISH
UID:46412053-9033-45d4-ad68-d39a63232a4a
X-WR-CALDESC:ITC Closed for Juneteenth
X-WR-RELCALID:6d0c6e5b99f3859db4861560ed409a7a
X-WR-TIMEZONE:America/New_York
BEGIN:VTIMEZONE
TZID:America/New_York
BEGIN:STANDARD
TZNAME:EST
DTSTART:20231105T020000
TZOFFSETFROM:-0400
TZOFFSETTO:-0500
RDATE:20241103T020000
RDATE:20251102T020000
END:STANDARD
BEGIN:DAYLIGHT
TZNAME:EDT
DTSTART:20240310T020000
TZOFFSETFROM:-0500
TZOFFSETTO:-0400
RDATE:20250309T020000
END:DAYLIGHT
END:VTIMEZONE
BEGIN:VEVENT
UID:9c7b82bf-e2fe-4fa9-b814-bc26a3c906ac
DTSTAMP:20260421T224557Z
DESCRIPTION:ITC Closed for Juneteenth
DTSTART;TZID=America/New_York:20240619T060000
DTEND;TZID=America/New_York:20240619T060001
LOCATION:ITC is closed for Junteenth Day
SUMMARY:ITC Closed
END:VEVENT
END:VCALENDAR
