BEGIN:VCALENDAR
VERSION:2.0
PRODID:-//itcacton.org//NONSGML kigkonsult.se iCalcreator 2.30.10//
CALSCALE:GREGORIAN
METHOD:PUBLISH
UID:822230ee-9652-4c3d-a488-c5996cad4d53
X-WR-CALDESC:ITC Closed for Staff Development Day
X-WR-RELCALID:6ebe1472139d751b85f232cf1545b057
X-WR-TIMEZONE:America/New_York
BEGIN:VTIMEZONE
TZID:America/New_York
BEGIN:STANDARD
TZNAME:EST
DTSTART:20231105T020000
TZOFFSETFROM:-0400
TZOFFSETTO:-0500
RDATE:20241103T020000
RDATE:20251102T020000
END:STANDARD
BEGIN:DAYLIGHT
TZNAME:EDT
DTSTART:20240310T020000
TZOFFSETFROM:-0500
TZOFFSETTO:-0400
RDATE:20250309T020000
END:DAYLIGHT
END:VTIMEZONE
BEGIN:VEVENT
UID:3a00586d-8082-47c6-a4dc-e9db692ebb37
DTSTAMP:20260421T224308Z
DESCRIPTION:ITC Closed for Staff Development Day
DTSTART;TZID=America/New_York:20240628T000000
DTEND;TZID=America/New_York:20240628T235900
LOCATION:
SUMMARY:ITC Closed
END:VEVENT
END:VCALENDAR
