BEGIN:VCALENDAR
VERSION:2.0
PRODID:-//itcacton.org//NONSGML kigkonsult.se iCalcreator 2.30.10//
CALSCALE:GREGORIAN
METHOD:PUBLISH
UID:ab50219b-1a7d-4636-9e96-9affbad156f2
X-WR-CALDESC:ITC Closed for Independence Day Weekend
X-WR-RELCALID:b2747db6c22bab3567112b44fde16fc4
X-WR-TIMEZONE:America/New_York
BEGIN:VTIMEZONE
TZID:America/New_York
BEGIN:STANDARD
TZNAME:EST
DTSTART:20231105T020000
TZOFFSETFROM:-0400
TZOFFSETTO:-0500
RDATE:20241103T020000
RDATE:20251102T020000
END:STANDARD
BEGIN:DAYLIGHT
TZNAME:EDT
DTSTART:20240310T020000
TZOFFSETFROM:-0500
TZOFFSETTO:-0400
RDATE:20250309T020000
END:DAYLIGHT
END:VTIMEZONE
BEGIN:VEVENT
UID:97b6d557-a360-4e18-a84e-507efc7a1f12
DTSTAMP:20260421T210727Z
DESCRIPTION:ITC Closed for Independence Day Weekend
DTSTART;TZID=America/New_York:20240704T000000
DTEND;TZID=America/New_York:20240705T235900
LOCATION:
SUMMARY:ITC Closed
END:VEVENT
END:VCALENDAR
