BEGIN:VCALENDAR
VERSION:2.0
PRODID:-//itcacton.org//NONSGML kigkonsult.se iCalcreator 2.30.10//
CALSCALE:GREGORIAN
METHOD:PUBLISH
UID:b7bf18f8-b067-4a4b-947c-4714b85fccff
X-WR-CALDESC:
X-WR-RELCALID:1b435514cde566cba58f7d1b19f82ecb
X-WR-TIMEZONE:America/New_York
BEGIN:VTIMEZONE
TZID:America/New_York
BEGIN:STANDARD
TZNAME:EST
DTSTART:20231105T020000
TZOFFSETFROM:-0400
TZOFFSETTO:-0500
RDATE:20241103T020000
RDATE:20251102T020000
END:STANDARD
BEGIN:DAYLIGHT
TZNAME:EDT
DTSTART:20240310T020000
TZOFFSETFROM:-0500
TZOFFSETTO:-0400
RDATE:20250309T020000
END:DAYLIGHT
END:VTIMEZONE
BEGIN:VEVENT
UID:707c4f05-84ae-4727-902a-95bf26ba0504
DTSTAMP:20260421T192702Z
DESCRIPTION:
DTSTART;TZID=America/New_York:20240812T000000
DTEND;TZID=America/New_York:20240823T235900
LOCATION:
SUMMARY:ITC Closed
END:VEVENT
END:VCALENDAR
