BEGIN:VCALENDAR
VERSION:2.0
PRODID:-//itcacton.org//NONSGML kigkonsult.se iCalcreator 2.30.10//
CALSCALE:GREGORIAN
METHOD:PUBLISH
UID:c72f69b1-4c0a-498d-959f-9db72f29d3c9
X-WR-CALDESC:
X-WR-RELCALID:83390c57efd0b3fc9296761c09d9ca6c
X-WR-TIMEZONE:America/New_York
BEGIN:VTIMEZONE
TZID:America/New_York
BEGIN:STANDARD
TZNAME:EST
DTSTART:20231105T020000
TZOFFSETFROM:-0400
TZOFFSETTO:-0500
RDATE:20241103T020000
RDATE:20251102T020000
END:STANDARD
BEGIN:DAYLIGHT
TZNAME:EDT
DTSTART:20240310T020000
TZOFFSETFROM:-0500
TZOFFSETTO:-0400
RDATE:20250309T020000
END:DAYLIGHT
END:VTIMEZONE
BEGIN:VEVENT
UID:f35aef9d-222b-4250-911b-b70cbd6ed7e9
DTSTAMP:20260421T181817Z
DESCRIPTION:
DTSTART;TZID=America/New_York:20240902T060000
DTEND;TZID=America/New_York:20240902T060001
LOCATION:149 Central St\, Acton\, MA 01720-2733 US
SUMMARY:ITC CLOSED
END:VEVENT
END:VCALENDAR
