BEGIN:VCALENDAR
VERSION:2.0
PRODID:-//itcacton.org//NONSGML kigkonsult.se iCalcreator 2.30.10//
CALSCALE:GREGORIAN
METHOD:PUBLISH
UID:4afb5fbd-ee4a-4ea7-9bf3-7ecb42ebd4ed
X-WR-CALDESC:
X-WR-RELCALID:470e6cf179c82111dc879fef57f83484
X-WR-TIMEZONE:America/New_York
BEGIN:VTIMEZONE
TZID:America/New_York
BEGIN:STANDARD
TZNAME:EST
DTSTART:20231105T020000
TZOFFSETFROM:-0400
TZOFFSETTO:-0500
RDATE:20241103T020000
RDATE:20251102T020000
END:STANDARD
BEGIN:DAYLIGHT
TZNAME:EDT
DTSTART:20240310T020000
TZOFFSETFROM:-0500
TZOFFSETTO:-0400
RDATE:20250309T020000
RDATE:20260308T020000
END:DAYLIGHT
END:VTIMEZONE
BEGIN:VEVENT
UID:759202ad-4324-4755-bc67-ca28fce053c7
DTSTAMP:20260421T165300Z
DESCRIPTION:
DTSTART;TZID=America/New_York:20241014T060000
DTEND;TZID=America/New_York:20241014T060001
LOCATION:149 Central St\, Acton\, MA 01720-2733 US
SUMMARY:ITC CLOSED
END:VEVENT
END:VCALENDAR
