BEGIN:VCALENDAR
VERSION:2.0
PRODID:-//itcacton.org//NONSGML kigkonsult.se iCalcreator 2.30.10//
CALSCALE:GREGORIAN
METHOD:PUBLISH
UID:0b247b53-f03d-4e08-bd4a-ece539b3e273
X-WR-CALDESC:
X-WR-RELCALID:f22056e390ecf2d28470618ef46a0cc7
X-WR-TIMEZONE:America/New_York
BEGIN:VTIMEZONE
TZID:America/New_York
BEGIN:STANDARD
TZNAME:EST
DTSTART:20251102T020000
TZOFFSETFROM:-0400
TZOFFSETTO:-0500
RDATE:20261101T020000
RDATE:20271107T020000
END:STANDARD
BEGIN:DAYLIGHT
TZNAME:EDT
DTSTART:20260308T020000
TZOFFSETFROM:-0500
TZOFFSETTO:-0400
RDATE:20270314T020000
END:DAYLIGHT
END:VTIMEZONE
BEGIN:VEVENT
UID:2df9cc22-ea90-40d2-80d8-b02ddb2811b6
DTSTAMP:20260422T083209Z
DESCRIPTION:
DTSTART;TZID=America/New_York:20260619T060000
DTEND;TZID=America/New_York:20260619T060001
LOCATION:
SUMMARY:ITC Closed: Juneteenth
END:VEVENT
END:VCALENDAR
